BEGIN:VCALENDAR
VERSION:2.0
PRODID:-//TuS Irmenach-Beuren 1913 e.V. - ECPv6.15.20//NONSGML v1.0//EN
CALSCALE:GREGORIAN
METHOD:PUBLISH
X-WR-CALNAME:TuS Irmenach-Beuren 1913 e.V.
X-ORIGINAL-URL:https://tus-irmenach-beuren.de
X-WR-CALDESC:Veranstaltungen für TuS Irmenach-Beuren 1913 e.V.
REFRESH-INTERVAL;VALUE=DURATION:PT1H
X-Robots-Tag:noindex
X-PUBLISHED-TTL:PT1H
BEGIN:VTIMEZONE
TZID:Europe/Berlin
BEGIN:DAYLIGHT
TZOFFSETFROM:+0100
TZOFFSETTO:+0200
TZNAME:CEST
DTSTART:20240331T010000
END:DAYLIGHT
BEGIN:STANDARD
TZOFFSETFROM:+0200
TZOFFSETTO:+0100
TZNAME:CET
DTSTART:20241027T010000
END:STANDARD
BEGIN:DAYLIGHT
TZOFFSETFROM:+0100
TZOFFSETTO:+0200
TZNAME:CEST
DTSTART:20250330T010000
END:DAYLIGHT
BEGIN:STANDARD
TZOFFSETFROM:+0200
TZOFFSETTO:+0100
TZNAME:CET
DTSTART:20251026T010000
END:STANDARD
BEGIN:DAYLIGHT
TZOFFSETFROM:+0100
TZOFFSETTO:+0200
TZNAME:CEST
DTSTART:20260329T010000
END:DAYLIGHT
BEGIN:STANDARD
TZOFFSETFROM:+0200
TZOFFSETTO:+0100
TZNAME:CET
DTSTART:20261025T010000
END:STANDARD
BEGIN:DAYLIGHT
TZOFFSETFROM:+0100
TZOFFSETTO:+0200
TZNAME:CEST
DTSTART:20270328T010000
END:DAYLIGHT
BEGIN:STANDARD
TZOFFSETFROM:+0200
TZOFFSETTO:+0100
TZNAME:CET
DTSTART:20271031T010000
END:STANDARD
END:VTIMEZONE
BEGIN:VEVENT
DTSTART;TZID=Europe/Berlin:20260313T193000
DTEND;TZID=Europe/Berlin:20260313T223000
DTSTAMP:20260422T141748
CREATED:20260207T141051Z
LAST-MODIFIED:20260207T141051Z
UID:1461-1773430200-1773441000@tus-irmenach-beuren.de
SUMMARY:TuS Jahreshauptversammlung 2026
DESCRIPTION:Jahreshauptversammlung 2026 \nWir laden alle Vereinsmitglieder des TuS Irmenach-Beuren 1913 e. V.\nzur diesjährigen Jahreshauptversammlung am \nFreitag\, 13. März 2026\, 19:30 Uhr \nin den kleinen Gemeindesaal in Irmenach ein. \nTAGESORDNUNG \n1. Eröffnung und Begrüßung\n2. Gedenkminute für verstorbene Mitglieder\n3. Jahresbericht 2025 mit Bericht aus den Abteilungen\n– Turnen\n– Aerobic\n– Funktionsgymnastik\n– Tanzen\n– Yoga\n4. Bericht der Ferienfreizeit\n5. Bericht der HSG Irmenach-Kleinich-Horbruch\n6. Kassenbericht\n7. Bericht der Kassenprüfer\n8. Entlastung des Vorstandes\n9. Neuwahl der Kassenprüfer\n10. Verschiedenes \nDer Vorstand des TuS Irmenach-Beuren freut sich über hoffentlich zahlreich erscheinende und interessierte Mitglieder.\nGanz herzlich sind auch unsere interessierten\, jugendlichen Mitglieder eingeladen.
URL:https://tus-irmenach-beuren.de/event/jahreshauptversammlung2026/
LOCATION:Kleiner Gemeindesaal Irmenach\, Burgstr.\, Irmenach\, Rheinland-Pfalz\, 56843\, Germany
END:VEVENT
BEGIN:VEVENT
DTSTART;TZID=Europe/Berlin:20250920T000000
DTEND;TZID=Europe/Berlin:20250920T235959
DTSTAMP:20260422T141748
CREATED:20250415T180444Z
LAST-MODIFIED:20250823T102249Z
UID:1193-1758326400-1758412799@tus-irmenach-beuren.de
SUMMARY:5. TuS Bierwanderung
DESCRIPTION:
URL:https://tus-irmenach-beuren.de/event/tus-bierwanderung/
END:VEVENT
BEGIN:VEVENT
DTSTART;TZID=Europe/Berlin:20250628T000000
DTEND;TZID=Europe/Berlin:20250629T235959
DTSTAMP:20260422T141748
CREATED:20250108T185125Z
LAST-MODIFIED:20250414T200553Z
UID:715-1751068800-1751241599@tus-irmenach-beuren.de
SUMMARY:TuS Handballsportfest
DESCRIPTION:
URL:https://tus-irmenach-beuren.de/event/tus-handballsportfest/
LOCATION:Sportplatz Irmenach\, Auf der Höh 15\, Irmenach
END:VEVENT
BEGIN:VEVENT
DTSTART;TZID=Europe/Berlin:20250523T000000
DTEND;TZID=Europe/Berlin:20250525T235959
DTSTAMP:20260422T141748
CREATED:20250415T175927Z
LAST-MODIFIED:20250517T053732Z
UID:1190-1747958400-1748217599@tus-irmenach-beuren.de
SUMMARY:Irmenacher Markt
DESCRIPTION:
URL:https://tus-irmenach-beuren.de/event/irmenacher-markt/
LOCATION:Festplatz Irmenach\, Bienengarten\, Irmenach\, Rheinland-Pfalz\, 56843\, Germany
END:VEVENT
BEGIN:VEVENT
DTSTART;TZID=Europe/Berlin:20250328T190000
DTEND;TZID=Europe/Berlin:20250328T220000
DTSTAMP:20260422T141748
CREATED:20250108T184935Z
LAST-MODIFIED:20250227T190506Z
UID:713-1743188400-1743199200@tus-irmenach-beuren.de
SUMMARY:TuS Jahreshauptversammlung
DESCRIPTION:Jahreshauptversammlung 2025 \nWir laden alle Vereinsmitglieder des TuS Irmenach-Beuren 1913 e. V.\nzur diesjährigen Jahreshauptversammlung am \nFreitag\, 28. März 2025\, 19:00 Uhr \nin den kleinen Gemeindesaal in Irmenach ein. \nTAGESORDNUNG \n1. Eröffnung und Begrüßung\n2. Gedenkminute für verstorbene Mitglieder\n3. Jahresbericht 2024 mit Bericht aus den Abteilungen\n– Turnen\n– Aerobic\n– Funktionsgymnastik\n– Tanzen\n– Yoga\n4. Bericht der Ferienfreizeit\n5. Bericht der HSG Irmenach-Kleinich-Horbruch\n6. Kassenbericht\n7. Bericht der Kassenprüfer\n8. Entlastung des Vorstandes\n9. Beratung und Beschlussfassung über die Neufassung der Satzung (Link: geplante Satzungsänderung – PDF-Dokument)\n10. Neuwahl der Kassenprüfer\n11. Neuwahl des Vorstandes\n12. Beratung und Beschlussfassung über gestellte Anträge\n13. Verschiedenes \nAnträge können bis zum 14.03.2025 schriftlich beim 1. Vorsitzenden und 2. Vorsitzenden eingereicht werden. \nDer Vorstand des TuS Irmenach-Beuren freut sich über hoffentlich zahlreich erscheinende und interessierte Mitglieder.\nGanz herzlich sind auch unsere interessierten\, jugendlichen Mitglieder eingeladen.
URL:https://tus-irmenach-beuren.de/event/jahreshauptversammlung2025/
LOCATION:Kleiner Gemeindesaal Irmenach\, Burgstr.\, Irmenach\, Rheinland-Pfalz\, 56843\, Germany
END:VEVENT
END:VCALENDAR